BEGIN:VCALENDAR
VERSION:2.0
PRODID:-//wp-events-plugin.com//7.2.3.1//EN
BEGIN:VEVENT
UID:16@albion-environmental.co.uk
DTSTART:20260122T103000Z
DTEND:20260122T120000Z
DTSTAMP:20260109T095313Z
URL:https://www.albion-environmental.co.uk/events/waste-less-operate-smart
 er-for-sustainable-growth/
SUMMARY:Waste Less\, Operate Smarter: For Sustainable Growth (Free Webinar)
DESCRIPTION:\n\nFollowing the success of our introductory Waste Less\, Ope
 rate Smarter webinar\, this advanced session takes a deeper look at the s
 trategies that drive sustainable growth and long-term operational success 
 in the waste and resource management sector.\n\nIn this follow-on webinar\
 , Neil will explore how to identify and secure profitable contracts\, impr
 ove tendering performance\, consistently deliver on KPIs\, strengthen bran
 d reputation\, avoid hidden pitfalls\, and future-proof your business for 
 stability and scalability.\n\nWith over 30 years of experience in operatio
 nal transformation\, Neil will guide attendees through practical methods a
 nd proven approaches that help organisations operate smarter\, perform bet
 ter\, and stand out in a competitive marketplace.\n\nKey Topics Covered:\n
 \n 	Winning the Right Contracts\n 	Bidding and Tendering\n 	Delivering on 
 KPIs\n 	Branding and Professional Standards\n 	Avoiding Hidden Traps\n 	Fu
 ture-Proofing\n\nThis session sets the stage for the upcoming 12-week “
 Waste Less\, Operate Smarter: Masterclass” Training Programme\, where Ne
 il will guide participants through a comprehensive\, step-by-step operatio
 nal transformation journey.\n\nDate: Thu\, 22 Jan 2026\n\n\nTime: 10:30 - 
 12:00\n\nCLICK HERE TO REGISTER NOW\n\nWe look forward to having you atten
 d the event!
LOCATION:https://events.teams.microsoft.com/event/bc36880b-181b-4cd6-93a8-b
 9b301348e52@dda904b4-2c9f-44d6-bad0-6353921c7fb3
END:VEVENT
END:VCALENDAR