BEGIN:VCALENDAR
VERSION:2.0
PRODID:-//wp-events-plugin.com//7.2.3.1//EN
BEGIN:VEVENT
UID:15@albion-environmental.co.uk
DTSTART:20260303T083000Z
DTEND:20260311T170000Z
DTSTAMP:20260218T120658Z
URL:https://www.albion-environmental.co.uk/events/rehis-working-with-waste
 -management-legislation-course/
SUMMARY:REHIS – Working with Waste Management Legislation Course
DESCRIPTION:Albion Environmental will be running a two-day course (16 hours
  contact time) on Tuesday 3rd &amp\; Wednesday 10th March 2026. This cour
 se is jointly awarded with the Royal Environmental Health Institute of Sco
 tland (REHIS).  The cost for this course is £699 inc VAT.\n\nThis two-d
 ay course is designed to provide an understanding of the legislation relat
 ing to the Waste Management industry and provides background knowledge an
 d understanding for WAMITAB candidates.\n\nThe course is suitable for thos
 e new to the Industry\, anyone starting or completing WAMITAB COTC awards 
 or experienced managers who require to be kept abreast of recent changes.
   In addition\, you will receive an accredited certificate upon completio
 n of the course.\n\nThe aim of our course is to provide an understanding a
 nd the ability to apply the practical aspects on the following areas:\n\n 
 	The Definition of Waste\n 	The Duty of Care\n 	Registration of Carriers\n
  	Special Waste Regulations\n 	Transport of Wastes (Including Dangerous Go
 ods)\n\nThrough a mixture of lecturing\, case studies and exercises our tr
 ainer will cover the following areas on the course:\n\n 	The Definition of
  Waste\n 	Registration of Carriers\n 	Duty of Care\n 	EWC Codes Special Wa
 ste Regulations &amp\; Consigning Special Waste\n 	Carriage of Dangerous G
 oods (By Road)\n 	Storage of Hazardous/Special Wastes\n 	Environmental Mon
 itoring\n 	Health &amp\; Safety Management\n
LOCATION:The Robertson Trust\, Robertson House\, 152 Bath Street\, Glasgow\
 , G2 4TB\, United Kingdom
X-APPLE-STRUCTURED-LOCATION;VALUE=URI;X-ADDRESS=Robertson House\, 152 Bath 
 Street\, Glasgow\, G2 4TB\, United Kingdom;X-APPLE-RADIUS=100;X-TITLE=The 
 Robertson Trust:geo:0,0
END:VEVENT
END:VCALENDAR