BEGIN:VCALENDAR
VERSION:2.0
PRODID:-//wp-events-plugin.com//7.2.3.1//EN
BEGIN:VEVENT
UID:8@albion-environmental.co.uk
DTSTART:20251204T083000Z
DTEND:20251211T170000Z
DTSTAMP:20250929T103056Z
URL:https://www.albion-environmental.co.uk/events/rehis-working-with-waste
 -management-legislation-course-2/
SUMMARY:REHIS – Working with Waste Management Legislation Course
DESCRIPTION:Albion Environmental will be running a two-day course (16 hours
  contact time) on Thursday 4th &amp\; 11th December 2025. This course is 
 jointly awarded with the Royal Environmental Health Institute of Scotland 
 (REHIS).  The cost for this course is £699 inc VAT.\n\nThis two-day cou
 rse is designed to provide an understanding of the legislation relating to
  the Waste Management industry and provides background knowledge and unde
 rstanding for WAMITAB candidates.\n\nThe course is suitable for those new 
 to the Industry\, anyone starting or completing WAMITAB COTC awards or exp
 erienced managers who require to be kept abreast of recent changes.  In a
 ddition\, you will receive an accredited certificate upon completion of th
 e course.\n\nThe aim of our course is to provide an understanding and the 
 ability to apply the practical aspects on the following areas:\n\n 	The De
 finition of Waste\n 	The Duty of Care\n 	Registration of Carriers\n 	Speci
 al Waste Regulations\n 	Transport of Wastes (Including Dangerous Goods)\n\
 nThrough a mixture of lecturing\, case studies and exercises our trainer w
 ill cover the following areas on the course:\n\n 	The Definition of Waste\
 n 	Registration of Carriers\n 	Duty of Care\n 	EWC Codes Special Waste Reg
 ulations &amp\; Consigning Special Waste\n 	Carriage of Dangerous Goods (B
 y Road)\n 	Storage of Hazardous/Special Wastes\n 	Environmental Monitoring
 \n 	Health &amp\; Safety Management\n
LOCATION:The Robertson Trust\, Robertson House\, 152 Bath Street\, Glasgow\
 , G2 4TB\, United Kingdom
X-APPLE-STRUCTURED-LOCATION;VALUE=URI;X-ADDRESS=Robertson House\, 152 Bath 
 Street\, Glasgow\, G2 4TB\, United Kingdom;X-APPLE-RADIUS=100;X-TITLE=The 
 Robertson Trust:geo:0,0
END:VEVENT
END:VCALENDAR