BEGIN:VCALENDAR
VERSION:2.0
PRODID:-//wp-events-plugin.com//7.2.3.1//EN
BEGIN:VEVENT
UID:24@albion-environmental.co.uk
DTSTART:20260617T090000Z
DTEND:20260618T170000Z
DTSTAMP:20260408T135933Z
URL:https://www.albion-environmental.co.uk/events/rehis-working-with-waste
 -management-2-day-course/
SUMMARY:REHIS Working with Waste Management 2-Day Course
DESCRIPTION:Albion Environmental will be running a two-day course (16 hours
  contact time) on Wednesday 17th &amp\; Thursday 18th June at The Robertso
 n Trust\, Glasgow. This course is jointly awarded with the Royal Environme
 ntal Health Institute of Scotland (REHIS).  The cost for this course is 
 £699 inc VAT.\n\nThis two-day course is designed to provide an understand
 ing of the legislation relating to the Waste Management industry and prov
 ides background knowledge and understanding for WAMITAB candidates.\n\nThe
  course is suitable for those new to the Industry\, anyone starting or com
 pleting WAMITAB COTC awards or experienced managers who require to be kept
  abreast of recent changes.  In addition\, you will receive an accredited
  certificate upon completion of the course.\n\nThe aim of our course is to
  provide an understanding and the ability to apply the practival aspects o
 n the following areas:\n\n 	The Definition of Waste\n 	The Duty of Care\n 
 	Registration of Carriers\n 	Special Waste Regulations\n 	Transport of Was
 tes (Including Dangerous Goods)\n\nThrough a mixture of lecturing\, case s
 tudies and exercises our trainer will cover the following areas on the cou
 rse:\n\n 	The Definition of Waste\n 	Registration of Carriers\n 	Duty of C
 are\n 	EWC Codes Special Waste Regulations &amp\; Consigning Special Waste
 \n 	Carriage of Dangerous Goods (By Road)\n 	Storage of Hazardous/Special 
 Wastes\n 	Environmental Monitoring\n 	Health &amp\; Safety Management\n
LOCATION:The Robertson Trust\, Robertson House\, 152 Bath Street\, Glasgow\
 , G2 4TB\, United Kingdom
X-APPLE-STRUCTURED-LOCATION;VALUE=URI;X-ADDRESS=Robertson House\, 152 Bath 
 Street\, Glasgow\, G2 4TB\, United Kingdom;X-APPLE-RADIUS=100;X-TITLE=The 
 Robertson Trust:geo:0,0
END:VEVENT
END:VCALENDAR