BEGIN:VCALENDAR
VERSION:2.0
PRODID:-//wp-events-plugin.com//7.2.3.1//EN
BEGIN:VEVENT
UID:26@albion-environmental.co.uk
DTSTART:20260916T090000Z
DTEND:20260923T170000Z
DTSTAMP:20260408T145922Z
URL:https://www.albion-environmental.co.uk/events/rehis-working-with-waste
 -management-2-day-course-2/
SUMMARY:REHIS Working with Waste Management 2-Day Course
DESCRIPTION:Albion Environmental will be running a two-day course (16 hours
  contact time) on Wednesday 16th &amp\; 23rd September at The Robertson T
 rust\, Glasgow. This course is jointly awarded with the Royal Environmenta
 l Health Institute of Scotland (REHIS).  The cost for this course is £69
 9 inc VAT.\n\nThis two-day course is designed to provide an understanding 
 of the legislation relating to the Waste Management industry and provides
  background knowledge and understanding for WAMITAB candidates.\n\nThe cou
 rse is suitable for those new to the Industry\, anyone starting or complet
 ing WAMITAB COTC awards or experienced managers who require to be kept abr
 east of recent changes.  In addition\, you will receive an accredited cer
 tificate upon completion of the course.\n\nThe aim of our course is to pro
 vide an understanding and the ability to apply the practical aspects on th
 e following areas:\n\n 	The Definition of Waste\n 	The Duty of Care\n 	Reg
 istration of Carriers\n 	Special Waste Regulations\n 	Transport of Wastes 
 (Including Dangerous Goods)\n\nThrough a mixture of lecturing\, case studi
 es and exercises our trainer will cover the following areas on the course:
 \n\n 	The Definition of Waste\n 	Registration of Carriers\n 	Duty of Care\
 n 	EWC Codes Special Waste Regulations &amp\; Consigning Special Waste\n 	
 Carriage of Dangerous Goods (By Road)\n 	Storage of Hazardous/Special Wast
 es\n 	Environmental Monitoring\n 	Health &amp\; Safety Management\n
LOCATION:The Robertson Trust\, Robertson House\, 152 Bath Street\, Glasgow\
 , G2 4TB\, United Kingdom
X-APPLE-STRUCTURED-LOCATION;VALUE=URI;X-ADDRESS=Robertson House\, 152 Bath 
 Street\, Glasgow\, G2 4TB\, United Kingdom;X-APPLE-RADIUS=100;X-TITLE=The 
 Robertson Trust:geo:0,0
END:VEVENT
END:VCALENDAR