BEGIN:VCALENDAR
VERSION:2.0
PRODID:-//wp-events-plugin.com//7.2.3.1//EN
BEGIN:VEVENT
UID:1@albion-environmental.co.uk
DTSTART:20250417T084500Z
DTEND:20250417T170000Z
DTSTAMP:20250408T063002Z
URL:https://www.albion-environmental.co.uk/events/rehis-introduction-to-wa
 ste-management/
SUMMARY:REHIS – Introduction to Waste Management
DESCRIPTION:Albion Environmental will be running a one-day course (8 hours 
 contact time) on Thursday 17th April 2025. This course is jointly awarded
  with the Royal Environmental Health Institute of Scotland (REHIS).  The 
 cost for this course is £360 inc VAT.\n\nThis training course provides a
  detailed understanding of the legislation relating to the Waste and Resou
 rce Management industry and provide the necessary level of knowledge for a
 nyone dealing with waste on a day to day basis. In addition\, you will rec
 eive an accredited certificate upon completion of the course.\n\nOur one-d
 ay REHIS course is ideal for the following individuals:\n\n 	Candidates wi
 shing to improve their knowledge of Waste Management\n 	Staff who regularl
 y handle waste and covers legal responsibilities\n 	New employees to the i
 ndustry\n 	Builders and Facility Managers/ Maintenance Contractors\n\nThe 
 aim of our course is to provide an understanding of the main requirements 
 of the “Duty of Care” with regards to Waste Management. In addition\, 
 to clarify various wastes correctly.\n\nThrough a mixture of lecturing\, c
 ase studies and exercises our trainer will cover the following areas on th
 e course:\n\n 	Definition of Waste\n 	Impact of Waste\n 	Identifying Waste
 \n 	Classification of Waste including correct EWC codes\n 	Duty of care 
 – responsibilities in the “waste chain”\n
LOCATION:Albion Environmental Ltd\, 1 Damside \, Ayr\, Ayrshire\,  KA8\, Un
 ited Kingdom
X-APPLE-STRUCTURED-LOCATION;VALUE=URI;X-ADDRESS=1 Damside \, Ayr\, Ayrshire
 \,  KA8\, United Kingdom;X-APPLE-RADIUS=100;X-TITLE=Albion Environmental L
 td:geo:0,0
END:VEVENT
END:VCALENDAR