BEGIN:VCALENDAR
VERSION:2.0
PRODID:-//wp-events-plugin.com//7.2.3.1//EN
BEGIN:VEVENT
UID:23@albion-environmental.co.uk
DTSTART:20260608T090000Z
DTEND:20260608T170000Z
DTSTAMP:20260408T133701Z
URL:https://www.albion-environmental.co.uk/events/rehis-introduction-to-wa
 ste-management-1-day-course/
SUMMARY:REHIS Introduction to Waste Management 1-Day Course
DESCRIPTION:Albion Environmental will be running a one-day course (8 hours 
 contact time) on Monday 8th June at The Robertson Trust\, Glasgow. This co
 urse is jointly awarded with the Royal Environmental Health Institute of S
 cotland (REHIS).  The cost for this course is £360 inc VAT.\n\nThis trai
 ning course provides a detailed understanding of the legislation relating 
 to the Waste and Resource Management industry and provide the necessary le
 vel of knowledge for anyone dealing with waste on a day to day basis. In a
 ddition\, you will receive an accredited certificate upon completion of th
 e course.\n\nOur one-day REHIS course is ideal for the following individua
 ls:\n\n 	Candidates wishing to improve their knowledge of Waste Management
 \n 	Staff who regularly handle waste and covers legal responsibilities\n 	
 New employees to the industry\n 	Builders and Facility Managers/ Maintenan
 ce Contractors\n\nThe aim of our course is to provide an understanding of 
 the main requirements of the “Duty of Care” with regards to Waste Mana
 gement. In addition\, to clarify various wastes correctly.\n\nThrough a mi
 xture of lecturing\, case studies and exercises our trainer will cover the
  following areas on the course:\n\n 	Definition of Waste\n 	Impact of Wast
 e\n 	Identifying Waste\n 	Classification of Waste including correct EWC co
 des\n 	Duty of care – responsibilities in the “waste chain”\n
LOCATION:The Robertson Trust\, Robertson House\, 152 Bath Street\, Glasgow\
 , G2 4TB\, United Kingdom
X-APPLE-STRUCTURED-LOCATION;VALUE=URI;X-ADDRESS=Robertson House\, 152 Bath 
 Street\, Glasgow\, G2 4TB\, United Kingdom;X-APPLE-RADIUS=100;X-TITLE=The 
 Robertson Trust:geo:0,0
END:VEVENT
END:VCALENDAR