BEGIN:VCALENDAR
VERSION:2.0
PRODID:-//wp-events-plugin.com//7.2.3.1//EN
BEGIN:VEVENT
UID:27@albion-environmental.co.uk
DTSTART:20261111T090000Z
DTEND:20261111T170000Z
DTSTAMP:20260408T151111Z
URL:https://www.albion-environmental.co.uk/events/rehis-introduction-to-wa
 ste-management-1-day-course-3/
SUMMARY:REHIS Introduction to Waste Management 1-Day Course
DESCRIPTION:Albion Environmental will be running a one-day course (8 hours 
 contact time) on Wednesday 11th November at The Robertson Trust\, Glasgow.
  This course is jointly awarded with the Royal Environmental Health Instit
 ute of Scotland (REHIS).  The cost for this course is £360 inc VAT.\n\nT
 his training course provides a detailed understanding of the legislation r
 elating to the Waste and Resource Management industry and provide the nece
 ssary level of knowledge for anyone dealing with waste on a day to day bas
 is. In addition\, you will receive an accredited certificate upon completi
 on of the course.\n\nOur one-day REHIS course is ideal for the following i
 ndividuals:\n\n 	Candidates wishing to improve their knowledge of Waste Ma
 nagement\n 	Staff who regularly handle waste and covers legal responsibili
 ties\n 	New employees to the industry\n 	Builders and Facility Managers/ M
 aintenance Contractors\n\nThe aim of our course is to provide an understan
 ding of the main requirements of the “Duty of Care” with regards to Wa
 ste Management. In addition\, to clarify various wastes correctly.\n\nThro
 ugh a mixture of lecturing\, case studies and exercises our trainer will c
 over the following areas on the course:\n\n 	Definition of Waste\n 	Impact
  of Waste\n 	Identifying Waste\n 	Classification of Waste including correc
 t EWC codes\n 	Duty of care – responsibilities in the “waste chain”\
 n
LOCATION:The Robertson Trust\, Robertson House\, 152 Bath Street\, Glasgow\
 , G2 4TB\, United Kingdom
X-APPLE-STRUCTURED-LOCATION;VALUE=URI;X-ADDRESS=Robertson House\, 152 Bath 
 Street\, Glasgow\, G2 4TB\, United Kingdom;X-APPLE-RADIUS=100;X-TITLE=The 
 Robertson Trust:geo:0,0
END:VEVENT
END:VCALENDAR