BEGIN:VCALENDAR
VERSION:2.0
PRODID:-//wp-events-plugin.com//7.2.3.1//EN
BEGIN:VEVENT
UID:25@albion-environmental.co.uk
DTSTART:20260908T090000Z
DTEND:20260908T170000Z
DTSTAMP:20260408T142634Z
URL:https://www.albion-environmental.co.uk/events/rehis-introduction-to-wa
 ste-management-1-day-course-2/
SUMMARY:REHIS Introduction to Waste Management 1-Day Course
DESCRIPTION:Albion Environmental will be running a one-day course (8 hours 
 contact time) on Tuesday 8th September at The Robertson Trust\, Glasgow. T
 his course is jointly awarded with the Royal Environmental Health Institut
 e of Scotland (REHIS).  The cost for this course is £360 inc VAT.\n\nThi
 s training course provides a detailed understanding of the legislation rel
 ating to the Waste and Resource Management industry and provide the necess
 ary level of knowledge for anyone dealing with waste on a day to day basis
 . In addition\, you will receive an accredited certificate upon completion
  of the course.\n\nOur one-day REHIS course is ideal for the following ind
 ividuals:\n\n 	Candidates wishing to improve their knowledge of Waste Mana
 gement\n 	Staff who regularly handle waste and covers legal responsibiliti
 es\n 	New employees to the industry\n 	Builders and Facility Managers/ Mai
 ntenance Contractors\n\nThe aim of our course is to provide an understandi
 ng of the main requirements of the “Duty of Care” with regards to Wast
 e Management. In addition\, to clarify various wastes correctly.\n\nThroug
 h a mixture of lecturing\, case studies and exercises our trainer will cov
 er the following areas on the course:\n\n 	Definition of Waste\n 	Impact o
 f Waste\n 	Identifying Waste\n 	Classification of Waste including correct 
 EWC codes\n 	Duty of care – responsibilities in the “waste chain”\n
LOCATION:The Robertson Trust\, Robertson House\, 152 Bath Street\, Glasgow\
 , G2 4TB\, United Kingdom
X-APPLE-STRUCTURED-LOCATION;VALUE=URI;X-ADDRESS=Robertson House\, 152 Bath 
 Street\, Glasgow\, G2 4TB\, United Kingdom;X-APPLE-RADIUS=100;X-TITLE=The 
 Robertson Trust:geo:0,0
END:VEVENT
END:VCALENDAR