BEGIN:VCALENDAR
VERSION:2.0
PRODID:-//wp-events-plugin.com//7.2.3.1//EN
BEGIN:VEVENT
UID:22@albion-environmental.co.uk
DTSTART:20260520T100000Z
DTEND:20260520T113000Z
DTSTAMP:20260408T091747Z
URL:https://www.albion-environmental.co.uk/events/pas-402-what-you-need-to
 -know-free-webinar/
SUMMARY:PAS 402: What You Need to Know (Free Webinar)
DESCRIPTION:\n\nJoin Albion Environmental\, Green Compass\, and SCAPE for a
 n informative webinar on PAS 402\, a performance reporting framework for w
 aste resource management organisations.\n\nThis session will provide a cle
 ar overview of PAS 402\, how it works in practice\, and its growing import
 ance across the UK construction sector. You’ll hear from Green Compass o
 n the structure of the specification and current industry uptake\, alongsi
 de insights from SCAPE on why construction clients are increasingly priori
 tising PAS 402 within procurement and sustainability strategies\, particul
 arly in light of the upcoming Resource Framework for Recycled Aggregates.\
 n\nAlbion Environmental will also outline how organisations can prepare fo
 r and achieve accreditation\, including training opportunities and consult
 ancy support such as gap analysis\, evidence preparation\, systems develop
 ment\, and pre-audit guidance. The webinar will conclude with practical ne
 xt steps\, including how to get involved\, access resources\, and plan you
 r route to compliance\, followed by a live Q&amp\;A session.\n\nWhether yo
 u are a supplier\, contractor\, or client\, this session will help you und
 erstand what PAS 402 means for your organisation and how to get ahead of u
 pcoming requirements.\n\nCLICK HERE TO REGISTER NOW\n\n\nWe look forward t
 o having you attend the event!
LOCATION:https://riverside.com/webinar/registration/eyJldmVudElkIjoiNjljYTg
 3MTg0ZmYxNzQwYjFkN2NmZGRkIiwic2x1ZyI6InBhcy00MDItd2ViaW5hciJ9
END:VEVENT
END:VCALENDAR