BEGIN:VCALENDAR
VERSION:2.0
PRODID:-//wp-events-plugin.com//7.2.3.1//EN
BEGIN:VEVENT
UID:17@albion-environmental.co.uk
DTSTART:20260129T100000Z
DTEND:20260129T120000Z
DTSTAMP:20260109T095250Z
URL:https://www.albion-environmental.co.uk/events/mybins-app-for-local-aut
 horities/
SUMMARY:MyBins App For Local Authorities (Free Webinar)
DESCRIPTION:Join us for a practical\, insight-led webinar exploring how MyB
 ins is helping councils modernise waste and recycling communication\, redu
 ce missed collections and improve public engagement.\n\nThis session is le
 d by Alasdair Meldrum\, Director of MyBins Ltd\, alongside Alex Meldrum\, 
 Product Director at MyBins.\n\nWith over 35 years experience in the waste 
 sector\, Alasdair brings a deep understanding of the operational challenge
 s faced by local authorities. Alex leads the technical development of MyBi
 ns app\, ensurinf it delivers a high-quality\, user-focused experience acr
 oss both Android and iOS platforms.\n\nDuring the webinar\, Alasdair and A
 lex will demonstrate how MyBins provides residents with personalised bin c
 alendars\, reminders\, recycling guidance and real-time service updates 
 — while giving councils a powerful backend tool to manage content\, push
  targeted notifications\, and communicate directly with households. Attend
 ees will see real-world examples from live council deployments\, including
  how MyBins has achieved over 50% household uptake in South Ayrshire and d
 elivers a wider digital reach than traditional social media channels.\n\nT
 he session will also cover implementation timescales\, costs\, ongoing sup
 port\, and future developments such as nationally consistent waste messagi
 ng\, multi-language support and potential revenue-sharing opportunities fo
 r councils.\n\nThis webinar is ideal for waste management teams\, environm
 ental services\, customer services and digital leads seeking a proven\, lo
 w-cost way to improve service delivery and resident satisfaction through s
 marter digital communication.\n\nThis webinar is open to Council staff onl
 y (please use council email address when registering).\nCLICK HERE TO REGI
 STER NOW\n\nWe look forward to having you attend the event!
LOCATION:https://events.teams.microsoft.com/event/14009c42-3952-4911-a1fc-d
 61a7c00ec6f@dda904b4-2c9f-44d6-bad0-6353921c7fb3
END:VEVENT
END:VCALENDAR