BEGIN:VCALENDAR
VERSION:2.0
PRODID:-//wp-events-plugin.com//7.2.3.1//EN
BEGIN:VEVENT
UID:19@albion-environmental.co.uk
DTSTART:20260409T100000Z
DTEND:20260409T113000Z
DTSTAMP:20260218T160118Z
URL:https://www.albion-environmental.co.uk/events/easr-2026-understanding-
 the-april-licence-changes/
SUMMARY:EASR 2026: Understanding the April Licence Changes (Free Webinar)
DESCRIPTION:\n\nJoin Albion Environmental Ltd for a focused session on th
 e upcoming Environmental Authorisations (Scotland) Regulations (EASR) ch
 anges coming into effect on 1 April 2026.\n\nWe’ll discuss what these u
 pdates mean for operators\, how existing licences and exemptions will tran
 sition\, and the practical steps you can take now to stay compliant and pr
 epared.\n\nWhether you’re a waste operator\, compliance manager\, or env
 ironmental professional\, this webinar will help you understand the key im
 plications and get ready for the changes ahead.\n\nCLICK HERE TO REGISTER 
 NOW\n\n\nWe look forward to having you attend the event!
LOCATION:https://riverside.com/webinar/registration/eyJzbHVnIjoiZWFzci11cGR
 hdGVzLXdlYmluYXIiLCJldmVudElkIjoiNjk5NTg0ODBlZmM4YmI3MWM4OTU1NDk5IiwicHJva
 mVjdElkIjoiNjk5NTgyZTM1OTNkOTI3YzNlYTE2MGQ4In0=
END:VEVENT
END:VCALENDAR