BEGIN:VCALENDAR
VERSION:2.0
PRODID:-//wp-events-plugin.com//7.2.3.1//EN
BEGIN:VEVENT
UID:11@albion-environmental.co.uk
DTSTART:20251106T084500Z
DTEND:20251106T123000Z
DTSTAMP:20251009T085909Z
URL:https://www.albion-environmental.co.uk/events/asbestos-awareness-cours
 e-3/
SUMMARY:Asbestos Awareness Course
DESCRIPTION:Albion Environmental will be running a half-day course (3 &amp\
 ; 1/2 hours contact time) on Thursday 6th November 2025.  The cost for th
 is course is £180.00 inc VAT.\n\nAlbion’s Asbestos Awareness Course is 
 aligned with the Control of Asbestos Regulations 2012 (CAR2012) and is des
 igned to provide individuals with the knowledge and skills necessary to id
 entify and manage asbestos containing materials (ACM) in the workplace.\n\
 nThis training course enables individuals to understand the types of Asbes
 tos and understand the likely uses and locations of Asbestos products. Thi
 s will then allow them to avoid the risks from asbestos and have a clear e
 mergency procedure if asbestos is discovered or disturbed.\n\nThe objectiv
 es for this course are:\n\n 	Understand the dangers arising from exposure 
 to asbestos\n 	Name the three main types of asbestos\n 	List the main dise
 ases caused by exposure to asbestos\n 	List some of the likely uses and lo
 cations for asbestos products in buildings\n 	Know how to avoid the risks 
 from asbestos\n 	Understand the general emergency procedures should asbest
 os be discovered or disturbed\n\nThrough a mixture of lecturing and multi 
 choice assessment our trainer will cover the following areas on the course
 :\n\n 	What is Asbestos\n 	Health &amp\; Safety Legislation\n 	Control of 
 Asbestos Regulations 2012\n 	Uses of Asbestos\n 	PPE and RPE\n 	Avoiding r
 isk\n 	Emergency Procedures\n
LOCATION:Albion Environmental Ltd\, 1 Damside \, Ayr\, Ayrshire\,  KA8\, Un
 ited Kingdom
X-APPLE-STRUCTURED-LOCATION;VALUE=URI;X-ADDRESS=1 Damside \, Ayr\, Ayrshire
 \,  KA8\, United Kingdom;X-APPLE-RADIUS=100;X-TITLE=Albion Environmental L
 td:geo:0,0
END:VEVENT
END:VCALENDAR