BEGIN:VCALENDAR
VERSION:2.0
PRODID:-//wp-events-plugin.com//7.2.3.1//EN
BEGIN:VEVENT
UID:12@albion-environmental.co.uk
DTSTART:20251202T084500Z
DTEND:20251202T123000Z
DTSTAMP:20251009T085950Z
URL:https://www.albion-environmental.co.uk/events/asbestos-awareness-cours
 e-2/
SUMMARY:Asbestos Awareness Course
DESCRIPTION:Albion Environmental will be running a half-day course (3 &amp\
 ; 1/2 hours contact time) on Tuesday 2nd December 2025.  The cost for thi
 s course is £180.00 inc VAT.\n\nAlbion’s Asbestos Awareness Course is a
 ligned with the Control of Asbestos Regulations 2012 (CAR2012) and is desi
 gned to provide individuals with the knowledge and skills necessary to ide
 ntify and manage asbestos containing materials (ACM) in the workplace.\n\n
 This training course enables individuals to understand the types of Asbest
 os and understand the likely uses and locations of Asbestos products. This
  will then allow them to avoid the risks from asbestos and have a clear em
 ergency procedure if asbestos is discovered or disturbed.\n\nThe objective
 s for this course are:\n\n 	Understand the dangers arising from exposure t
 o asbestos\n 	Name the three main types of asbestos\n 	List the main disea
 ses caused by exposure to asbestos\n 	List some of the likely uses and loc
 ations for asbestos products in buildings\n 	Know how to avoid the risks f
 rom asbestos\n 	Understand the general emergency procedures should asbesto
 s be discovered or disturbed\n\nThrough a mixture of lecturing and multi c
 hoice assessment our trainer will cover the following areas on the course:
 \n\n 	What is Asbestos\n 	Health &amp\; Safety Legislation\n 	Control of A
 sbestos Regulations 2012\n 	Uses of Asbestos\n 	PPE and RPE\n 	Avoiding ri
 sk\n 	Emergency Procedures\n
LOCATION:Albion Environmental Ltd\, 1 Damside \, Ayr\, Ayrshire\,  KA8\, Un
 ited Kingdom
X-APPLE-STRUCTURED-LOCATION;VALUE=URI;X-ADDRESS=1 Damside \, Ayr\, Ayrshire
 \,  KA8\, United Kingdom;X-APPLE-RADIUS=100;X-TITLE=Albion Environmental L
 td:geo:0,0
END:VEVENT
END:VCALENDAR