BEGIN:VCALENDAR
VERSION:2.0
PRODID:-//wp-events-plugin.com//7.2.3.1//EN
BEGIN:VEVENT
UID:21@albion-environmental.co.uk
DTSTART:20260330T090000Z
DTEND:20260330T090000Z
DTSTAMP:20260219T113157Z
URL:https://www.albion-environmental.co.uk/events/a-smarter-pathway-to-ciw
 m-wamitab-cotc/
SUMMARY:A Smarter Pathway to CIWM (WAMITAB) CoTC: Building Knowledge for Wa
 ste Facility Managers
DESCRIPTION:The way people work is changing\, and professional qualificatio
 ns need to adapt to reflect modern working practices. Within the framework
  of the existing CIWM (WAMITAB) awards\, Albion Environmental has develope
 d a new approach to delivering Certificate of Technical Competence (CoTC) 
 qualifications that better supports today’s candidates and employers.\n\
 nWe are pleased to introduce this clearer\, more flexible pathway to CoTC
 \, designed to help candidates build the knowledge and understanding neede
 d to confidently manage a waste facility before entering formal assessment
 . This approach is suitable for those preparing to start their first CIWM 
 (WAMITAB) CoTC\, currently completing a qualification\, or progressing ont
 o a second\, third\, or subsequent CoTC.\n\nThe cost for choosing this opt
 ion is £1440 inc VAT.  Please be aware the registration deadline for thi
 s option is the 20th March 2026.\n\nCohort start is 30th March 2026\, but 
 as an online course no need to actually start on this date. Course will be
  open until 30th March 2027.
END:VEVENT
END:VCALENDAR