BEGIN:VCALENDAR
VERSION:2.0
PRODID:-//wp-events-plugin.com//7.2.3.1//EN
BEGIN:VEVENT
UID:18@albion-environmental.co.uk
DTSTART:20260219T100000Z
DTEND:20260219T113000Z
DTSTAMP:20260109T100625Z
URL:https://www.albion-environmental.co.uk/events/a-smarter-pathway-to-ciw
 m-wamitab-cotc-building-knowledge-for-waste-facility-managers/
SUMMARY:A Smarter Pathway to CIWM (WAMITAB) CoTC: Building Knowledge for Wa
 ste Facility Managers (Free Webinar)
DESCRIPTION:The way people work is changing\, and professional qualificatio
 ns need to adapt to reflect modern working practices. Within the framework
  of the existing CIWM (WAMITAB) awards\, Albion Environmental has develope
 d a new approach to delivering Certificate of Technical Competence (CoTC) 
 qualifications that better supports today’s candidates and employers.\n\
 n\nWe are pleased to introduce this clearer\, more flexible pathway to Co
 TC\, designed to help candidates build the knowledge and understanding nee
 ded to confidently manage a waste facility before entering formal assessme
 nt. This approach is suitable for those preparing to start their first CIW
 M (WAMITAB) CoTC\, currently completing a qualification\, or progressing o
 nto a second\, third\, or subsequent CoTC.\n\nIn this webinar\, Albion Env
 ironmental will outline how a knowledge-led structure allows candidates to
  learn at their own pace\, gain recognised CPD\, and enter the CoTC proces
 s better prepared and more confident. Attendees will gain a clear understa
 nding of the new pathway\, its benefits\, and how it supports more efficie
 nt and successful progression to CoTC.\n\nThis session is ideal for:\n\n 	
 Waste facility managers and supervisors planning to progress to CoTC\n 	Em
 ployers supporting staff through WAMITAB qualifications\n 	Anyone involved
  in managing or overseeing CoTC candidates\n\nAlbion Environmental has bee
 n delivering CIWM (WAMITAB) CoTC qualifications since 2003\, supporting ca
 ndidates and employers across the waste and resource management sector. Th
 is new pathway builds on that experience to deliver improved outcomes for 
 all.\n\nChartered Institution of Wastes Management (CIWM) is the leading p
 rofessional body for the waste and resource management sector. CIWM formal
 ly merged with the Waste Management Industry Training &amp\; Advisory Boar
 d (WAMITAB)\, with CIWM taking over the development and awarding of WAMIT
 AB’s qualification portfolio from January 2022. ) The qualifications are
  now regulated\, quality-assured\, and awarded by CIWM (WAMITAB) as the aw
 arding organisation.\n\nCLICK HERE TO REGISTER NOW\n\n\nWe look forward to
  having you attend the event!
LOCATION:https://events.teams.microsoft.com/event/b31565f2-c81d-4261-8928-b
 05b0f9e63d3@dda904b4-2c9f-44d6-bad0-6353921c7fb3
END:VEVENT
END:VCALENDAR