BEGIN:VCALENDAR
VERSION:2.0
PRODID:-//wp-events-plugin.com//7.2.3.1//EN
BEGIN:VEVENT
UID:29@albion-environmental.co.uk
DTSTART:20260629T083000Z
DTEND:20260629T234500Z
DTSTAMP:20260416T131656Z
URL:https://www.albion-environmental.co.uk/events/a-smarter-pathway-to-ciw
 m-wamitab-cotc-building-knowledge-for-waste-facility-managers-2/
SUMMARY:A Smarter Pathway to CIWM (WAMITAB) CoTC: Building Knowledge for Wa
 ste Facility Managers
DESCRIPTION:The way people work is changing—and professional qualificatio
 ns need to keep pace. Within the framework of the existing CIWM (WAMITAB) 
 awards\, Albion Environmental has developed a more modern\, flexible appro
 ach to delivering Certificate of Technical Competence (CoTC) qualification
 s\, designed around the needs of today’s candidates and employers.\n\nWe
  are pleased to introduce a clearer\, more streamlined pathway to CoTC. Th
 is approach supports candidates in building the knowledge\, confidence\, a
 nd practical understanding needed to effectively manage a waste facility b
 efore progressing to formal assessment. It is ideal for those preparing fo
 r their first CIWM (WAMITAB) CoTC\, currently working towards a qualificat
 ion\, or looking to progress onto a second or subsequent CoTC.\n\nThe cost
  for this pathway is £1\,440 (incl. VAT) as part of our limited early bir
 d offer\, available until 5th June 2026. Demand is expected to be high and
  places are limited\, so we strongly recommend securing your place as soon
  as possible to avoid missing out. After this date\, the price will increa
 se to £1\,728 (incl. VAT).\n\nThe cohort officially starts on 29th June 2
 026\; however\, as this is an online programme\, there is no requirement t
 o begin on that exact date. The course will remain accessible until 29th J
 une 2027\, giving you the flexibility to learn at your own pace.
END:VEVENT
END:VCALENDAR